BEGIN:VCALENDAR
VERSION:2.0
PRODID:-//WWBMMC - ECPv6.15.13//NONSGML v1.0//EN
CALSCALE:GREGORIAN
METHOD:PUBLISH
X-ORIGINAL-URL:https://wwbmmc.ca
X-WR-CALDESC:Events for WWBMMC
REFRESH-INTERVAL;VALUE=DURATION:PT1H
X-Robots-Tag:noindex
X-PUBLISHED-TTL:PT1H
BEGIN:VTIMEZONE
TZID:America/Toronto
BEGIN:DAYLIGHT
TZOFFSETFROM:-0500
TZOFFSETTO:-0400
TZNAME:EDT
DTSTART:20250309T070000
END:DAYLIGHT
BEGIN:STANDARD
TZOFFSETFROM:-0400
TZOFFSETTO:-0500
TZNAME:EST
DTSTART:20251102T060000
END:STANDARD
BEGIN:DAYLIGHT
TZOFFSETFROM:-0500
TZOFFSETTO:-0400
TZNAME:EDT
DTSTART:20260308T070000
END:DAYLIGHT
BEGIN:STANDARD
TZOFFSETFROM:-0400
TZOFFSETTO:-0500
TZNAME:EST
DTSTART:20261101T060000
END:STANDARD
BEGIN:DAYLIGHT
TZOFFSETFROM:-0500
TZOFFSETTO:-0400
TZNAME:EDT
DTSTART:20270314T070000
END:DAYLIGHT
BEGIN:STANDARD
TZOFFSETFROM:-0400
TZOFFSETTO:-0500
TZNAME:EST
DTSTART:20271107T060000
END:STANDARD
END:VTIMEZONE
BEGIN:VEVENT
DTSTART;TZID=America/Toronto:20260628T060000
DTEND;TZID=America/Toronto:20260628T070000
DTSTAMP:20260423T153404
CREATED:20260228T203326Z
LAST-MODIFIED:20260228T203326Z
UID:48104-1782626400-1782630000@wwbmmc.ca
SUMMARY:Milk Rice offering Pooja
DESCRIPTION:[vc_row][vc_column icons_position=”left”][vc_empty_space alter_height=”small” hide_on_desktop=”” hide_on_notebook=”” hide_on_tablet=”” hide_on_mobile=””]Milk Rice Pooja Sign-Up Form[vc_empty_space hide_on_desktop=”” hide_on_notebook=”” hide_on_tablet=”” hide_on_mobile=””][/vc_column][/vc_row][vc_row][vc_column icons_position=”left”][vc_empty_space alter_height=”small” hide_on_desktop=”” hide_on_notebook=”” hide_on_tablet=”” hide_on_mobile=””][vc_single_image image=”36355″ img_size=”large” alignment=”center” style=”vc_box_shadow_3d” css=””][/vc_column][/vc_row][vc_row][vc_column icons_position=”left”][vc_empty_space alter_height=”small” hide_on_desktop=”” hide_on_notebook=”” hide_on_tablet=”” hide_on_mobile=””]Milk Rice Pooja Sign-Up Form[vc_empty_space alter_height=”small” hide_on_desktop=”” hide_on_notebook=”” hide_on_tablet=”” hide_on_mobile=””][vc_column_text css=””]First Name *Last Name *Email Address *Phone *Please Select the Month *Please Select the MonthJanuary ( Duruthu Poya)February (Navam Poya)March (Medin Poya)April (Bak Poya)May (Vesak Poya)June (Poson Poya)July (Esala Poya)August (Nikini Poya)September (Binara Poya)October (Vap Poya)November (Il Poya)December  (Unduvap Poya)MessageSend Message[/vc_column_text][vc_empty_space alter_height=”small” hide_on_desktop=”” hide_on_notebook=”” hide_on_tablet=”” hide_on_mobile=””][/vc_column][/vc_row][vc_row][vc_column icons_position=”left”][/vc_column][/vc_row]
URL:https://wwbmmc.ca/event/milk-rice-offering-pooja-4/
LOCATION:Lake Monastery\, 1145 Roseville RD\, Cambridge\, ON\, N1R 5S3\, Canada
CATEGORIES:Buddha Pooja
ATTACH;FMTTYPE=image/jpeg:https://wwbmmc.ca/wp-content/uploads/2025/02/0d0efc35-02f7-4a41-8b3e-5d0f2e1cac6f.jpeg
ORGANIZER;CN="WWBMMC":MAILTO:secretary@wwbmmc.ca
END:VEVENT
BEGIN:VEVENT
DTSTART;TZID=America/Toronto:20260628T080000
DTEND;TZID=America/Toronto:20260628T170000
DTSTAMP:20260423T153404
CREATED:20250624T013529Z
LAST-MODIFIED:20260107T023518Z
UID:1343-1782633600-1782666000@wwbmmc.ca
SUMMARY:Poson Poya Sil Program
DESCRIPTION:[vc_row][vc_column icons_position=”left”][vc_empty_space alter_height=”medium” hide_on_desktop=”” hide_on_notebook=”” hide_on_tablet=”” hide_on_mobile=””]Poson Poya Program[vc_empty_space hide_on_desktop=”” hide_on_notebook=”” hide_on_tablet=”” hide_on_mobile=””][vc_empty_space hide_on_desktop=”” hide_on_notebook=”” hide_on_tablet=”” hide_on_mobile=””][vc_column_text] \n\n\n\n\nPoson Poya is commemorated on the full moon day of June. This is a very important Poya day for Sri Lankans. Arahant Mihindu thero\, son of Indian emperor Asoka\, brought Buddhism to the Island. He preached to King Devanampiyatissa at Mihintale. \n\n\n\n\n[/vc_column_text][vc_empty_space hide_on_desktop=”” hide_on_notebook=”” hide_on_tablet=”” hide_on_mobile=””][/vc_column][/vc_row][vc_row][vc_column icons_position=”left”]Contributions for Atawisi Buddha Poojawa[vc_column_text][/vc_column_text][/vc_column][/vc_row][vc_row hide_bg_image_on_tablet=”” hide_bg_image_on_mobile=”” css=”.vc_custom_1717729724448{border-top-width: 1px !important;border-right-width: 1px !important;border-bottom-width: 1px !important;border-left-width: 2px !important;padding-top: 5px !important;padding-right: 5px !important;padding-bottom: 5px !important;padding-left: 5px !important;border-left-color: #f7f7f7 !important;border-left-style: solid !important;border-right-color: #f7f7f7 !important;border-right-style: solid !important;border-top-color: #f7f7f7 !important;border-top-style: solid !important;border-bottom-color: #f7f7f7 !important;border-bottom-style: solid !important;border-radius: 5px !important;}”][vc_column icons_position=”left”]Contribution for Poson Dansala[vc_column_text][/vc_column_text][/vc_column][/vc_row]
URL:https://wwbmmc.ca/event/june-sil-program-2/
LOCATION:Lake Monastery\, 1145 Roseville RD\, Cambridge\, ON\, N1R 5S3\, Canada
CATEGORIES:All,Buddha Pooja,Dhamma Dasana,Religious Events,Sil Program
ATTACH;FMTTYPE=image/jpeg:https://wwbmmc.ca/wp-content/uploads/2019/11/Mihindu-himi-art-by-Senarath.jpg
ORGANIZER;CN="WWBMMC":MAILTO:secretary@wwbmmc.ca
END:VEVENT
END:VCALENDAR