BEGIN:VCALENDAR
VERSION:2.0
PRODID:-//WWBMMC - ECPv6.15.13//NONSGML v1.0//EN
CALSCALE:GREGORIAN
METHOD:PUBLISH
X-ORIGINAL-URL:https://wwbmmc.ca
X-WR-CALDESC:Events for WWBMMC
REFRESH-INTERVAL;VALUE=DURATION:PT1H
X-Robots-Tag:noindex
X-PUBLISHED-TTL:PT1H
BEGIN:VTIMEZONE
TZID:America/Toronto
BEGIN:DAYLIGHT
TZOFFSETFROM:-0500
TZOFFSETTO:-0400
TZNAME:EDT
DTSTART:20250309T070000
END:DAYLIGHT
BEGIN:STANDARD
TZOFFSETFROM:-0400
TZOFFSETTO:-0500
TZNAME:EST
DTSTART:20251102T060000
END:STANDARD
BEGIN:DAYLIGHT
TZOFFSETFROM:-0500
TZOFFSETTO:-0400
TZNAME:EDT
DTSTART:20260308T070000
END:DAYLIGHT
BEGIN:STANDARD
TZOFFSETFROM:-0400
TZOFFSETTO:-0500
TZNAME:EST
DTSTART:20261101T060000
END:STANDARD
BEGIN:DAYLIGHT
TZOFFSETFROM:-0500
TZOFFSETTO:-0400
TZNAME:EDT
DTSTART:20270314T070000
END:DAYLIGHT
BEGIN:STANDARD
TZOFFSETFROM:-0400
TZOFFSETTO:-0500
TZNAME:EST
DTSTART:20271107T060000
END:STANDARD
END:VTIMEZONE
BEGIN:VEVENT
DTSTART;TZID=America/Toronto:20261227T060000
DTEND;TZID=America/Toronto:20261227T070000
DTSTAMP:20260423T190337
CREATED:20260228T203732Z
LAST-MODIFIED:20260228T203732Z
UID:48116-1798351200-1798354800@wwbmmc.ca
SUMMARY:Milk Rice offering Pooja
DESCRIPTION:[vc_row][vc_column icons_position=”left”][vc_empty_space alter_height=”small” hide_on_desktop=”” hide_on_notebook=”” hide_on_tablet=”” hide_on_mobile=””]Milk Rice Pooja Sign-Up Form[vc_empty_space hide_on_desktop=”” hide_on_notebook=”” hide_on_tablet=”” hide_on_mobile=””][/vc_column][/vc_row][vc_row][vc_column icons_position=”left”][vc_empty_space alter_height=”small” hide_on_desktop=”” hide_on_notebook=”” hide_on_tablet=”” hide_on_mobile=””][vc_single_image image=”36355″ img_size=”large” alignment=”center” style=”vc_box_shadow_3d” css=””][/vc_column][/vc_row][vc_row][vc_column icons_position=”left”][vc_empty_space alter_height=”small” hide_on_desktop=”” hide_on_notebook=”” hide_on_tablet=”” hide_on_mobile=””]Milk Rice Pooja Sign-Up Form[vc_empty_space alter_height=”small” hide_on_desktop=”” hide_on_notebook=”” hide_on_tablet=”” hide_on_mobile=””][vc_column_text css=””]First Name *Last Name *Email Address *Phone *Please Select the Month *Please Select the MonthJanuary ( Duruthu Poya)February (Navam Poya)March (Medin Poya)April (Bak Poya)May (Vesak Poya)June (Poson Poya)July (Esala Poya)August (Nikini Poya)September (Binara Poya)October (Vap Poya)November (Il Poya)December  (Unduvap Poya)MessageSend Message[/vc_column_text][vc_empty_space alter_height=”small” hide_on_desktop=”” hide_on_notebook=”” hide_on_tablet=”” hide_on_mobile=””][/vc_column][/vc_row][vc_row][vc_column icons_position=”left”][/vc_column][/vc_row]
URL:https://wwbmmc.ca/event/milk-rice-offering-pooja-10/
LOCATION:Lake Monastery\, 1145 Roseville RD\, Cambridge\, ON\, N1R 5S3\, Canada
CATEGORIES:Buddha Pooja
ATTACH;FMTTYPE=image/jpeg:https://wwbmmc.ca/wp-content/uploads/2025/02/0d0efc35-02f7-4a41-8b3e-5d0f2e1cac6f.jpeg
ORGANIZER;CN="WWBMMC":MAILTO:secretary@wwbmmc.ca
END:VEVENT
BEGIN:VEVENT
DTSTART;TZID=America/Toronto:20261227T080000
DTEND;TZID=America/Toronto:20261227T170000
DTSTAMP:20260423T190337
CREATED:20251224T071727Z
LAST-MODIFIED:20260107T023426Z
UID:1391-1798358400-1798390800@wwbmmc.ca
SUMMARY:December Sil Program
DESCRIPTION:[vc_row][vc_column icons_position=”left”][vc_empty_space alter_height=”medium” hide_on_desktop=”” hide_on_notebook=”” hide_on_tablet=”” hide_on_mobile=””]Unduvap Poya Sil Program[vc_empty_space hide_on_desktop=”” hide_on_notebook=”” hide_on_tablet=”” hide_on_mobile=””][vc_single_image image=”13399″ img_size=”medium” alignment=”center” style=”vc_box_shadow_3d”][vc_empty_space hide_on_desktop=”” hide_on_notebook=”” hide_on_tablet=”” hide_on_mobile=””][vc_column_text] \n\n\n\nUnduvap Poya is commemorated on the full moon day of December. On this Poya day\, Theri Sanghamitta arrived in Sri Lanka with the sapling of the Jaya Sri Maha Bodhi Tree\, which was planted in Anuradhapura. The Bikkhuni order was established in Sri Lanka.\n\n\n\n[/vc_column_text][vc_empty_space hide_on_desktop=”” hide_on_notebook=”” hide_on_tablet=”” hide_on_mobile=””][/vc_column][/vc_row]
URL:https://wwbmmc.ca/event/december-sil-program/
LOCATION:Lake Monastery\, 1145 Roseville RD\, Cambridge\, ON\, N1R 5S3\, Canada
CATEGORIES:All,Buddha Pooja,Dhamma Dasana,Religious Events,Sil Program
ATTACH;FMTTYPE=image/jpeg:https://wwbmmc.ca/wp-content/uploads/2019/11/Unduvap-Poya.jpg
ORGANIZER;CN="WWBMMC":MAILTO:secretary@wwbmmc.ca
END:VEVENT
END:VCALENDAR