BEGIN:VCALENDAR
VERSION:2.0
PRODID:-//WWBMMC - ECPv6.15.13//NONSGML v1.0//EN
CALSCALE:GREGORIAN
METHOD:PUBLISH
X-WR-CALNAME:WWBMMC
X-ORIGINAL-URL:https://wwbmmc.ca
X-WR-CALDESC:Events for WWBMMC
REFRESH-INTERVAL;VALUE=DURATION:PT1H
X-Robots-Tag:noindex
X-PUBLISHED-TTL:PT1H
BEGIN:VTIMEZONE
TZID:America/Toronto
BEGIN:DAYLIGHT
TZOFFSETFROM:-0500
TZOFFSETTO:-0400
TZNAME:EDT
DTSTART:20250309T070000
END:DAYLIGHT
BEGIN:STANDARD
TZOFFSETFROM:-0400
TZOFFSETTO:-0500
TZNAME:EST
DTSTART:20251102T060000
END:STANDARD
BEGIN:DAYLIGHT
TZOFFSETFROM:-0500
TZOFFSETTO:-0400
TZNAME:EDT
DTSTART:20260308T070000
END:DAYLIGHT
BEGIN:STANDARD
TZOFFSETFROM:-0400
TZOFFSETTO:-0500
TZNAME:EST
DTSTART:20261101T060000
END:STANDARD
BEGIN:DAYLIGHT
TZOFFSETFROM:-0500
TZOFFSETTO:-0400
TZNAME:EDT
DTSTART:20270314T070000
END:DAYLIGHT
BEGIN:STANDARD
TZOFFSETFROM:-0400
TZOFFSETTO:-0500
TZNAME:EST
DTSTART:20271107T060000
END:STANDARD
END:VTIMEZONE
BEGIN:VEVENT
DTSTART;TZID=America/Toronto:20260104T080000
DTEND;TZID=America/Toronto:20260104T170000
DTSTAMP:20260423T170717
CREATED:20250102T022041Z
LAST-MODIFIED:20260107T023414Z
UID:1340-1767513600-1767546000@wwbmmc.ca
SUMMARY:January Sil Program
DESCRIPTION:[vc_row][vc_column icons_position=”left”][vc_column_text]Duruthu Poya is commemorated on the full moon day of January. On this Poya day\, the Buddha visited Sri Lanka for the first time. He restored peace amongst the Yaksa tribe in Mahiyangana. During this visit\, the Buddha bestowed sacred hair relics to God Sumana Saman.[/vc_column_text][/vc_column][/vc_row][vc_row disable_element=”yes”][vc_column icons_position=”left”]Days prorgram[/vc_column][/vc_row][vc_row disable_element=”yes”][vc_column icons_position=”left”][vc_column_text][vc_acf field_group=”4057″ field_from_4057=”field_5e0ad5b16346d” align=”center”][/vc_column_text][/vc_column][/vc_row]
URL:https://wwbmmc.ca/event/january-sil-program/
LOCATION:Lake Monastery\, 1145 Roseville RD\, Cambridge\, ON\, N1R 5S3\, Canada
CATEGORIES:Buddha Pooja,Dhamma Dasana,Religious Events,Sil Program
ATTACH;FMTTYPE=image/jpeg:https://wwbmmc.ca/wp-content/uploads/2019/11/duruthu-poya.jpg
ORGANIZER;CN="WWBMMC":MAILTO:secretary@wwbmmc.ca
END:VEVENT
BEGIN:VEVENT
DTSTART;VALUE=DATE:20260111
DTEND;VALUE=DATE:20260112
DTSTAMP:20260423T170717
CREATED:20260107T030434Z
LAST-MODIFIED:20260107T042514Z
UID:48087-1768089600-1768175999@wwbmmc.ca
SUMMARY:Silent Meditation Retreats
DESCRIPTION:[vc_row][vc_column icons_position=”left”][vc_empty_space alter_height=”medium” hide_on_desktop=”” hide_on_notebook=”” hide_on_tablet=”” hide_on_mobile=””]Silent Meditation Retreats[vc_empty_space alter_height=”small” hide_on_desktop=”” hide_on_notebook=”” hide_on_tablet=”” hide_on_mobile=””][vc_single_image image=”26620″ img_size=”large” alignment=”center” style=”vc_box_shadow_3d”][vc_empty_space alter_height=”small” hide_on_desktop=”” hide_on_notebook=”” hide_on_tablet=”” hide_on_mobile=””]Reserve your spot[vc_column_text][/vc_column_text][/vc_column][/vc_row]
URL:https://wwbmmc.ca/event/silent-meditation-retreat/
LOCATION:Lake Monastery\, 1145 Roseville RD\, Cambridge\, ON\, N1R 5S3\, Canada
CATEGORIES:Meditation,Silent Meditation Retreat
ATTACH;FMTTYPE=image/jpeg:https://wwbmmc.ca/wp-content/uploads/2024/05/Learn-from-Buddhist-Monks-scaled.jpeg
ORGANIZER;CN="WWBMMC":MAILTO:secretary@wwbmmc.ca
END:VEVENT
BEGIN:VEVENT
DTSTART;VALUE=DATE:20260110
DTEND;VALUE=DATE:20260111
DTSTAMP:20260423T170717
CREATED:20260107T030440Z
LAST-MODIFIED:20260107T041055Z
UID:48079-1768003200-1768089599@wwbmmc.ca
SUMMARY:Silent Meditation Retreats
DESCRIPTION:[vc_row][vc_column icons_position=”left”][vc_empty_space alter_height=”medium” hide_on_desktop=”” hide_on_notebook=”” hide_on_tablet=”” hide_on_mobile=””]Silent Meditation Retreats[vc_empty_space alter_height=”small” hide_on_desktop=”” hide_on_notebook=”” hide_on_tablet=”” hide_on_mobile=””][vc_single_image image=”26620″ img_size=”large” alignment=”center” style=”vc_box_shadow_3d”][vc_empty_space alter_height=”small” hide_on_desktop=”” hide_on_notebook=”” hide_on_tablet=”” hide_on_mobile=””]Reserve your spot[vc_column_text][/vc_column_text][/vc_column][/vc_row]
URL:https://wwbmmc.ca/event/silent-meditation-retreats-10/
LOCATION:Lake Monastery\, 1145 Roseville RD\, Cambridge\, ON\, N1R 5S3\, Canada
CATEGORIES:Meditation,Silent Meditation Retreat
ATTACH;FMTTYPE=image/jpeg:https://wwbmmc.ca/wp-content/uploads/2024/05/Learn-from-Buddhist-Monks-scaled.jpeg
ORGANIZER;CN="WWBMMC":MAILTO:secretary@wwbmmc.ca
END:VEVENT
BEGIN:VEVENT
DTSTART;VALUE=DATE:20260123
DTEND;VALUE=DATE:20260126
DTSTAMP:20260423T170717
CREATED:20260107T031505Z
LAST-MODIFIED:20260107T041701Z
UID:48077-1769126400-1769385599@wwbmmc.ca
SUMMARY:Silent Meditation Retreats
DESCRIPTION:[vc_row][vc_column icons_position=”left”][vc_empty_space alter_height=”medium” hide_on_desktop=”” hide_on_notebook=”” hide_on_tablet=”” hide_on_mobile=””]Silent Meditation Retreats[vc_empty_space alter_height=”small” hide_on_desktop=”” hide_on_notebook=”” hide_on_tablet=”” hide_on_mobile=””][vc_single_image image=”26620″ img_size=”large” alignment=”center” style=”vc_box_shadow_3d”][vc_empty_space alter_height=”small” hide_on_desktop=”” hide_on_notebook=”” hide_on_tablet=”” hide_on_mobile=””]Reserve your spot[vc_column_text][/vc_column_text][/vc_column][/vc_row]
URL:https://wwbmmc.ca/event/silent-meditation-retreats-3/
LOCATION:Lake Monastery\, 1145 Roseville RD\, Cambridge\, ON\, N1R 5S3\, Canada
CATEGORIES:Meditation,Silent Meditation Retreat
ATTACH;FMTTYPE=image/jpeg:https://wwbmmc.ca/wp-content/uploads/2024/05/Learn-from-Buddhist-Monks-scaled.jpeg
ORGANIZER;CN="WWBMMC":MAILTO:secretary@wwbmmc.ca
END:VEVENT
END:VCALENDAR