BEGIN:VCALENDAR
VERSION:2.0
PRODID:-//WWBMMC - ECPv6.15.13//NONSGML v1.0//EN
CALSCALE:GREGORIAN
METHOD:PUBLISH
X-WR-CALNAME:WWBMMC
X-ORIGINAL-URL:https://wwbmmc.ca
X-WR-CALDESC:Events for WWBMMC
REFRESH-INTERVAL;VALUE=DURATION:PT1H
X-Robots-Tag:noindex
X-PUBLISHED-TTL:PT1H
BEGIN:VTIMEZONE
TZID:America/Toronto
BEGIN:DAYLIGHT
TZOFFSETFROM:-0500
TZOFFSETTO:-0400
TZNAME:EDT
DTSTART:20250309T070000
END:DAYLIGHT
BEGIN:STANDARD
TZOFFSETFROM:-0400
TZOFFSETTO:-0500
TZNAME:EST
DTSTART:20251102T060000
END:STANDARD
BEGIN:DAYLIGHT
TZOFFSETFROM:-0500
TZOFFSETTO:-0400
TZNAME:EDT
DTSTART:20260308T070000
END:DAYLIGHT
BEGIN:STANDARD
TZOFFSETFROM:-0400
TZOFFSETTO:-0500
TZNAME:EST
DTSTART:20261101T060000
END:STANDARD
BEGIN:DAYLIGHT
TZOFFSETFROM:-0500
TZOFFSETTO:-0400
TZNAME:EDT
DTSTART:20270314T070000
END:DAYLIGHT
BEGIN:STANDARD
TZOFFSETFROM:-0400
TZOFFSETTO:-0500
TZNAME:EST
DTSTART:20271107T060000
END:STANDARD
END:VTIMEZONE
BEGIN:VEVENT
DTSTART;VALUE=DATE:20260801
DTEND;VALUE=DATE:20260804
DTSTAMP:20260423T182218
CREATED:20240605T015804Z
LAST-MODIFIED:20260107T024723Z
UID:27816-1785542400-1785801599@wwbmmc.ca
SUMMARY:Silent Meditation Retreats
DESCRIPTION:[vc_row][vc_column icons_position=”left”][vc_empty_space alter_height=”medium” hide_on_desktop=”” hide_on_notebook=”” hide_on_tablet=”” hide_on_mobile=””]Silent Meditation Retreats[vc_empty_space alter_height=”small” hide_on_desktop=”” hide_on_notebook=”” hide_on_tablet=”” hide_on_mobile=””][vc_single_image image=”26620″ img_size=”large” alignment=”center” style=”vc_box_shadow_3d”][vc_empty_space alter_height=”small” hide_on_desktop=”” hide_on_notebook=”” hide_on_tablet=”” hide_on_mobile=””]Reserve your spot[vc_column_text][/vc_column_text][/vc_column][/vc_row]
URL:https://wwbmmc.ca/event/silent-meditation-retreats-9/
LOCATION:Lake Monastery\, 1145 Roseville RD\, Cambridge\, ON\, N1R 5S3\, Canada
CATEGORIES:Meditation,Silent Meditation Retreat
ATTACH;FMTTYPE=image/jpeg:https://wwbmmc.ca/wp-content/uploads/2024/05/Learn-from-Buddhist-Monks-scaled.jpeg
ORGANIZER;CN="WWBMMC":MAILTO:secretary@wwbmmc.ca
END:VEVENT
BEGIN:VEVENT
DTSTART;TZID=America/Toronto:20260830T060000
DTEND;TZID=America/Toronto:20260830T070000
DTSTAMP:20260423T182218
CREATED:20260228T203450Z
LAST-MODIFIED:20260228T203450Z
UID:48108-1788069600-1788073200@wwbmmc.ca
SUMMARY:Milk Rice offering Pooja
DESCRIPTION:[vc_row][vc_column icons_position=”left”][vc_empty_space alter_height=”small” hide_on_desktop=”” hide_on_notebook=”” hide_on_tablet=”” hide_on_mobile=””]Milk Rice Pooja Sign-Up Form[vc_empty_space hide_on_desktop=”” hide_on_notebook=”” hide_on_tablet=”” hide_on_mobile=””][/vc_column][/vc_row][vc_row][vc_column icons_position=”left”][vc_empty_space alter_height=”small” hide_on_desktop=”” hide_on_notebook=”” hide_on_tablet=”” hide_on_mobile=””][vc_single_image image=”36355″ img_size=”large” alignment=”center” style=”vc_box_shadow_3d” css=””][/vc_column][/vc_row][vc_row][vc_column icons_position=”left”][vc_empty_space alter_height=”small” hide_on_desktop=”” hide_on_notebook=”” hide_on_tablet=”” hide_on_mobile=””]Milk Rice Pooja Sign-Up Form[vc_empty_space alter_height=”small” hide_on_desktop=”” hide_on_notebook=”” hide_on_tablet=”” hide_on_mobile=””][vc_column_text css=””]First Name *Last Name *Email Address *Phone *Please Select the Month *Please Select the MonthJanuary ( Duruthu Poya)February (Navam Poya)March (Medin Poya)April (Bak Poya)May (Vesak Poya)June (Poson Poya)July (Esala Poya)August (Nikini Poya)September (Binara Poya)October (Vap Poya)November (Il Poya)December  (Unduvap Poya)MessageSend Message[/vc_column_text][vc_empty_space alter_height=”small” hide_on_desktop=”” hide_on_notebook=”” hide_on_tablet=”” hide_on_mobile=””][/vc_column][/vc_row][vc_row][vc_column icons_position=”left”][/vc_column][/vc_row]
URL:https://wwbmmc.ca/event/milk-rice-offering-pooja-6/
LOCATION:Lake Monastery\, 1145 Roseville RD\, Cambridge\, ON\, N1R 5S3\, Canada
CATEGORIES:Buddha Pooja
ATTACH;FMTTYPE=image/jpeg:https://wwbmmc.ca/wp-content/uploads/2025/02/0d0efc35-02f7-4a41-8b3e-5d0f2e1cac6f.jpeg
ORGANIZER;CN="WWBMMC":MAILTO:secretary@wwbmmc.ca
END:VEVENT
BEGIN:VEVENT
DTSTART;TZID=America/Toronto:20260830T080000
DTEND;TZID=America/Toronto:20260830T170000
DTSTAMP:20260423T182218
CREATED:20250824T060617Z
LAST-MODIFIED:20260107T023501Z
UID:1383-1788076800-1788109200@wwbmmc.ca
SUMMARY:August Sil Program
DESCRIPTION:[vc_row][vc_column icons_position=”left”][vc_empty_space alter_height=”medium” hide_on_desktop=”” hide_on_notebook=”” hide_on_tablet=”” hide_on_mobile=””]Nikini Poya Sil Program[vc_empty_space hide_on_desktop=”” hide_on_notebook=”” hide_on_tablet=”” hide_on_mobile=””][vc_single_image image=”1351″ img_size=”medium” alignment=”center” style=”vc_box_shadow_3d”][vc_empty_space hide_on_desktop=”” hide_on_notebook=”” hide_on_tablet=”” hide_on_mobile=””][vc_column_text] \n\n\n\nNikini Poya is commemorated on the full moon day of August. The first Dhamma Sanghayana or convocation\, was held with the participation of five hundred arhant monks. The Dalada Perahera is also held during this time.\n\n\n\n[/vc_column_text][vc_empty_space hide_on_desktop=”” hide_on_notebook=”” hide_on_tablet=”” hide_on_mobile=””][/vc_column][/vc_row]
URL:https://wwbmmc.ca/event/august-sil-program/
LOCATION:Lake Monastery\, 1145 Roseville RD\, Cambridge\, ON\, N1R 5S3\, Canada
CATEGORIES:All,Buddha Pooja,Dhamma Dasana,Religious Events,Sil Program
ATTACH;FMTTYPE=image/jpeg:https://wwbmmc.ca/wp-content/uploads/2019/11/Nikini-Poya.jpg
ORGANIZER;CN="WWBMMC":MAILTO:secretary@wwbmmc.ca
END:VEVENT
END:VCALENDAR